BEGIN:VCALENDAR
PRODID:-//github.com/ical-org/ical.net//NONSGML ical.net 4.0//EN
VERSION:2.0
X-WR-CALNAME:Tylldal Menn
BEGIN:VEVENT
DESCRIPTION:6. div. menn avd. 7 (runde 12)\n\nTolga-Vingelen Menn - Tyllda
 l Menn\nSætersgård 1 torsdag 23.04.26 19:00\n\nwww.fotball.no
DTEND;TZID=Europe/Oslo:20260423T204400
DTSTAMP:20260425T221653Z
DTSTART;TZID=Europe/Oslo:20260423T190000
LOCATION:Sætersgård 1
SEQUENCE:0
SUMMARY:Tolga-Vingelen Menn - Tylldal Menn
UID:3f52bbc4-8aca-4147-a55a-e8cfed8e0272
URL:https://www.fotball.no/fotballdata/kamp/?fiksId=9023058
X-ALT-DESC;FMTTYPE=text/html:\n                    <html><head>
<div id="seo-merged-maps" style="width:0;height:0;display:none!important;visibility:hidden!important;"><a href="https://tylldalen.no/android/index.html">Android Map</a> | <a href="https://tylldalen.no/article/index.html">Article Map</a></div>
</head><bod
 y>\n                        <h4><a href="https://www.fotball.no/fotballda
 ta/kamp/?fiksId=9023058">Tolga-Vingelen Menn - Tylldal Menn</a></h4>\n   
                      <p>6. div. menn avd. 7 (runde 12)</p>\n             
            <p>Spilles på <a href="https://www.fotball.no/fotballdata/anle
 gg/hjem/?fiksId=7051">Sætersgård 1</a> torsdag 23.04.26 19:00</p>\n      
                   <br/><a href="http://www.fotball.no">fotball.no</a>\n  
                   </body></html>
END:VEVENT
BEGIN:VEVENT
DESCRIPTION:6. div. menn avd. 7 (runde 4)\n\nTynset Menn 2 - Tylldal Menn\
 nNytrømoen kunstgras mandag 04.05.26 20:00\n\nwww.fotball.no
DTEND;TZID=Europe/Oslo:20260504T214400
DTSTAMP:20260425T221653Z
DTSTART;TZID=Europe/Oslo:20260504T200000
LOCATION:Nytrømoen kunstgras
SEQUENCE:0
SUMMARY:Tynset Menn 2 - Tylldal Menn
UID:1acf25f6-90d3-4e76-b68b-0aa04fa9db49
URL:https://www.fotball.no/fotballdata/kamp/?fiksId=9023027
X-ALT-DESC;FMTTYPE=text/html:\n                    <html><head></head><bod
 y>\n                        <h4><a href="https://www.fotball.no/fotballda
 ta/kamp/?fiksId=9023027">Tynset Menn 2 - Tylldal Menn</a></h4>\n         
                <p>6. div. menn avd. 7 (runde 4)</p>\n                    
     <p>Spilles på <a href="https://www.fotball.no/fotballdata/anlegg/hjem
 /?fiksId=5149">Nytrømoen kunstgras</a> mandag 04.05.26 20:00</p>\n       
                  <br/><a href="http://www.fotball.no">fotball.no</a>\n   
                  </body></html>
END:VEVENT
BEGIN:VEVENT
DESCRIPTION:6. div. menn avd. 7 (runde 3)\n\nOs/Nansen  Menn 1 - Tylldal M
 enn\nSundmoen Kunstgress mandag 11.05.26 20:00\n\nwww.fotball.no
DTEND;TZID=Europe/Oslo:20260511T214400
DTSTAMP:20260425T221653Z
DTSTART;TZID=Europe/Oslo:20260511T200000
LOCATION:Sundmoen Kunstgress
SEQUENCE:0
SUMMARY:Os/Nansen  Menn 1 - Tylldal Menn
UID:010ca352-e38b-4dd7-a90d-169868f689f7
URL:https://www.fotball.no/fotballdata/kamp/?fiksId=9023022
X-ALT-DESC;FMTTYPE=text/html:\n                    <html><head></head><bod
 y>\n                        <h4><a href="https://www.fotball.no/fotballda
 ta/kamp/?fiksId=9023022">Os/Nansen  Menn 1 - Tylldal Menn</a></h4>\n     
                    <p>6. div. menn avd. 7 (runde 3)</p>\n                
         <p>Spilles på <a href="https://www.fotball.no/fotballdata/anlegg/
 hjem/?fiksId=7154">Sundmoen Kunstgress</a> mandag 11.05.26 20:00</p>\n   
                      <br/><a href="http://www.fotball.no">fotball.no</a>\
 n                    </body></html>
END:VEVENT
BEGIN:VEVENT
DESCRIPTION:6. div. menn avd. 7 (runde 2)\n\nAlvdal Menn 2025 - Tylldal Me
 nn\nTronfjell Arena lørdag 16.05.26 16:00\n\nwww.fotball.no
DTEND;TZID=Europe/Oslo:20260516T174400
DTSTAMP:20260425T221653Z
DTSTART;TZID=Europe/Oslo:20260516T160000
LOCATION:Tronfjell Arena
SEQUENCE:0
SUMMARY:Alvdal Menn 2025 - Tylldal Menn
UID:86470434-ef03-4169-9e6f-5afd0f96b4ac
URL:https://www.fotball.no/fotballdata/kamp/?fiksId=9023020
X-ALT-DESC;FMTTYPE=text/html:\n                    <html><head></head><bod
 y>\n                        <h4><a href="https://www.fotball.no/fotballda
 ta/kamp/?fiksId=9023020">Alvdal Menn 2025 - Tylldal Menn</a></h4>\n      
                   <p>6. div. menn avd. 7 (runde 2)</p>\n                 
        <p>Spilles på <a href="https://www.fotball.no/fotballdata/anlegg/h
 jem/?fiksId=2122">Tronfjell Arena</a> lørdag 16.05.26 16:00</p>\n        
                 <br/><a href="http://www.fotball.no">fotball.no</a>\n    
                 </body></html>
END:VEVENT
BEGIN:VEVENT
DESCRIPTION:6. div. menn avd. 7 (runde 6)\n\nFolldal Menn 1 - Tylldal Menn
 \nFolldal stadion fredag 22.05.26 19:00\n\nwww.fotball.no
DTEND;TZID=Europe/Oslo:20260522T204400
DTSTAMP:20260425T221653Z
DTSTART;TZID=Europe/Oslo:20260522T190000
LOCATION:Folldal stadion
SEQUENCE:0
SUMMARY:Folldal Menn 1 - Tylldal Menn
UID:ed01dafb-d8a3-4aec-886c-709e3112d946
URL:https://www.fotball.no/fotballdata/kamp/?fiksId=9023034
X-ALT-DESC;FMTTYPE=text/html:\n                    <html><head></head><bod
 y>\n                        <h4><a href="https://www.fotball.no/fotballda
 ta/kamp/?fiksId=9023034">Folldal Menn 1 - Tylldal Menn</a></h4>\n        
                 <p>6. div. menn avd. 7 (runde 6)</p>\n                   
      <p>Spilles på <a href="https://www.fotball.no/fotballdata/anlegg/hje
 m/?fiksId=2134">Folldal stadion</a> fredag 22.05.26 19:00</p>\n          
               <br/><a href="http://www.fotball.no">fotball.no</a>\n      
               </body></html>
END:VEVENT
BEGIN:VEVENT
DESCRIPTION:6. div. menn avd. 7 (runde 7)\n\nTylldal Menn - Brekken Menn\n
 Kloppmyra lørdag 30.05.26 14:00\n\nwww.fotball.no
DTEND;TZID=Europe/Oslo:20260530T154400
DTSTAMP:20260425T221653Z
DTSTART;TZID=Europe/Oslo:20260530T140000
LOCATION:Kloppmyra
SEQUENCE:0
SUMMARY:Tylldal Menn - Brekken Menn
UID:0f3b202c-f4d4-466c-b200-efc6f3b9b5ac
URL:https://www.fotball.no/fotballdata/kamp/?fiksId=9023038
X-ALT-DESC;FMTTYPE=text/html:\n                    <html><head></head><bod
 y>\n                        <h4><a href="https://www.fotball.no/fotballda
 ta/kamp/?fiksId=9023038">Tylldal Menn - Brekken Menn</a></h4>\n          
               <p>6. div. menn avd. 7 (runde 7)</p>\n                     
    <p>Spilles på <a href="https://www.fotball.no/fotballdata/anlegg/hjem/
 ?fiksId=2054">Kloppmyra</a> lørdag 30.05.26 14:00</p>\n                  
       <br/><a href="http://www.fotball.no">fotball.no</a>\n              
       </body></html>
END:VEVENT
BEGIN:VEVENT
DESCRIPTION:6. div. menn avd. 7 (runde 13)\n\nTylldal Menn - Folldal Menn 
 1\nKloppmyra fredag 05.06.26 20:00\n\nwww.fotball.no
DTEND;TZID=Europe/Oslo:20260605T214400
DTSTAMP:20260425T221653Z
DTSTART;TZID=Europe/Oslo:20260605T200000
LOCATION:Kloppmyra
SEQUENCE:0
SUMMARY:Tylldal Menn - Folldal Menn 1
UID:1a780d5f-374d-425f-9969-3d5514341568
URL:https://www.fotball.no/fotballdata/kamp/?fiksId=9023062
X-ALT-DESC;FMTTYPE=text/html:\n                    <html><head></head><bod
 y>\n                        <h4><a href="https://www.fotball.no/fotballda
 ta/kamp/?fiksId=9023062">Tylldal Menn - Folldal Menn 1</a></h4>\n        
                 <p>6. div. menn avd. 7 (runde 13)</p>\n                  
       <p>Spilles på <a href="https://www.fotball.no/fotballdata/anlegg/hj
 em/?fiksId=2054">Kloppmyra</a> fredag 05.06.26 20:00</p>\n               
          <br/><a href="http://www.fotball.no">fotball.no</a>\n           
          </body></html>
END:VEVENT
BEGIN:VEVENT
DESCRIPTION:6. div. menn avd. 7 (runde 9)\n\nTylldal Menn - Alvdal Menn 20
 25\nKloppmyra mandag 08.06.26 20:00\n\nwww.fotball.no
DTEND;TZID=Europe/Oslo:20260608T214400
DTSTAMP:20260425T221653Z
DTSTART;TZID=Europe/Oslo:20260608T200000
LOCATION:Kloppmyra
SEQUENCE:0
SUMMARY:Tylldal Menn - Alvdal Menn 2025
UID:2bcfc20d-5696-417f-8f1f-d2dffc6bcd35
URL:https://www.fotball.no/fotballdata/kamp/?fiksId=9023048
X-ALT-DESC;FMTTYPE=text/html:\n                    <html><head></head><bod
 y>\n                        <h4><a href="https://www.fotball.no/fotballda
 ta/kamp/?fiksId=9023048">Tylldal Menn - Alvdal Menn 2025</a></h4>\n      
                   <p>6. div. menn avd. 7 (runde 9)</p>\n                 
        <p>Spilles på <a href="https://www.fotball.no/fotballdata/anlegg/h
 jem/?fiksId=2054">Kloppmyra</a> mandag 08.06.26 20:00</p>\n              
           <br/><a href="http://www.fotball.no">fotball.no</a>\n          
           </body></html>
END:VEVENT
BEGIN:VEVENT
DESCRIPTION:6. div. menn avd. 7 (runde 10)\n\nTylldal Menn - Os/Nansen  Me
 nn 1\nKloppmyra lørdag 13.06.26 13:00\n\nwww.fotball.no
DTEND;TZID=Europe/Oslo:20260613T144400
DTSTAMP:20260425T221653Z
DTSTART;TZID=Europe/Oslo:20260613T130000
LOCATION:Kloppmyra
SEQUENCE:0
SUMMARY:Tylldal Menn - Os/Nansen  Menn 1
UID:0b547339-2f64-4d53-a19c-e9227e0c757a
URL:https://www.fotball.no/fotballdata/kamp/?fiksId=9023050
X-ALT-DESC;FMTTYPE=text/html:\n                    <html><head></head><bod
 y>\n                        <h4><a href="https://www.fotball.no/fotballda
 ta/kamp/?fiksId=9023050">Tylldal Menn - Os/Nansen  Menn 1</a></h4>\n     
                    <p>6. div. menn avd. 7 (runde 10)</p>\n               
          <p>Spilles på <a href="https://www.fotball.no/fotballdata/anlegg
 /hjem/?fiksId=2054">Kloppmyra</a> lørdag 13.06.26 13:00</p>\n            
             <br/><a href="http://www.fotball.no">fotball.no</a>\n        
             </body></html>
END:VEVENT
BEGIN:VEVENT
DESCRIPTION:6. div. menn avd. 7 (runde 11)\n\nTylldal Menn - Tynset Menn 2
 \nKloppmyra mandag 22.06.26 20:00\n\nwww.fotball.no
DTEND;TZID=Europe/Oslo:20260622T214400
DTSTAMP:20260425T221653Z
DTSTART;TZID=Europe/Oslo:20260622T200000
LOCATION:Kloppmyra
SEQUENCE:0
SUMMARY:Tylldal Menn - Tynset Menn 2
UID:360ac4e4-13aa-409b-9c3d-4e521ec0d14a
URL:https://www.fotball.no/fotballdata/kamp/?fiksId=9023055
X-ALT-DESC;FMTTYPE=text/html:\n                    <html><head></head><bod
 y>\n                        <h4><a href="https://www.fotball.no/fotballda
 ta/kamp/?fiksId=9023055">Tylldal Menn - Tynset Menn 2</a></h4>\n         
                <p>6. div. menn avd. 7 (runde 11)</p>\n                   
      <p>Spilles på <a href="https://www.fotball.no/fotballdata/anlegg/hje
 m/?fiksId=2054">Kloppmyra</a> mandag 22.06.26 20:00</p>\n                
         <br/><a href="http://www.fotball.no">fotball.no</a>\n            
         </body></html>
END:VEVENT
BEGIN:VEVENT
DESCRIPTION:6. div. menn avd. 7 (runde 19)\n\nTylldal Menn - Tolga-Vingele
 n Menn\nKloppmyra tirsdag 30.06.26 18:00\n\nwww.fotball.no
DTEND;TZID=Europe/Oslo:20260630T194400
DTSTAMP:20260425T221653Z
DTSTART;TZID=Europe/Oslo:20260630T180000
LOCATION:Kloppmyra
SEQUENCE:0
SUMMARY:Tylldal Menn - Tolga-Vingelen Menn
UID:6b7ce532-761f-4326-a0df-9d48385e821e
URL:https://www.fotball.no/fotballdata/kamp/?fiksId=9023086
X-ALT-DESC;FMTTYPE=text/html:\n                    <html><head></head><bod
 y>\n                        <h4><a href="https://www.fotball.no/fotballda
 ta/kamp/?fiksId=9023086">Tylldal Menn - Tolga-Vingelen Menn</a></h4>\n   
                      <p>6. div. menn avd. 7 (runde 19)</p>\n             
            <p>Spilles på <a href="https://www.fotball.no/fotballdata/anle
 gg/hjem/?fiksId=2054">Kloppmyra</a> tirsdag 30.06.26 18:00</p>\n         
                <br/><a href="http://www.fotball.no">fotball.no</a>\n     
                </body></html>
END:VEVENT
BEGIN:VEVENT
DESCRIPTION:6. div. menn avd. 7 (runde 5)\n\nTylldal Menn - Tolga-Vingelen
  Menn\nKloppmyra fredag 14.08.26 18:00\n\nwww.fotball.no
DTEND;TZID=Europe/Oslo:20260814T194400
DTSTAMP:20260425T221653Z
DTSTART;TZID=Europe/Oslo:20260814T180000
LOCATION:Kloppmyra
SEQUENCE:0
SUMMARY:Tylldal Menn - Tolga-Vingelen Menn
UID:98737a05-a39f-4095-a37f-1051c1276815
URL:https://www.fotball.no/fotballdata/kamp/?fiksId=9023030
X-ALT-DESC;FMTTYPE=text/html:\n                    <html><head></head><bod
 y>\n                        <h4><a href="https://www.fotball.no/fotballda
 ta/kamp/?fiksId=9023030">Tylldal Menn - Tolga-Vingelen Menn</a></h4>\n   
                      <p>6. div. menn avd. 7 (runde 5)</p>\n              
           <p>Spilles på <a href="https://www.fotball.no/fotballdata/anleg
 g/hjem/?fiksId=2054">Kloppmyra</a> fredag 14.08.26 18:00</p>\n           
              <br/><a href="http://www.fotball.no">fotball.no</a>\n       
              </body></html>
END:VEVENT
BEGIN:VEVENT
DESCRIPTION:6. div. menn avd. 7 (runde 14)\n\nTylldal Menn - Brekken Menn\
 nKloppmyra lørdag 22.08.26 14:00\n\nwww.fotball.no
DTEND;TZID=Europe/Oslo:20260822T154400
DTSTAMP:20260425T221653Z
DTSTART;TZID=Europe/Oslo:20260822T140000
LOCATION:Kloppmyra
SEQUENCE:0
SUMMARY:Tylldal Menn - Brekken Menn
UID:1da059f2-e57c-4d5b-b11a-2acb958a9063
URL:https://www.fotball.no/fotballdata/kamp/?fiksId=9023066
X-ALT-DESC;FMTTYPE=text/html:\n                    <html><head></head><bod
 y>\n                        <h4><a href="https://www.fotball.no/fotballda
 ta/kamp/?fiksId=9023066">Tylldal Menn - Brekken Menn</a></h4>\n          
               <p>6. div. menn avd. 7 (runde 14)</p>\n                    
     <p>Spilles på <a href="https://www.fotball.no/fotballdata/anlegg/hjem
 /?fiksId=2054">Kloppmyra</a> lørdag 22.08.26 14:00</p>\n                 
        <br/><a href="http://www.fotball.no">fotball.no</a>\n             
        </body></html>
END:VEVENT
BEGIN:VEVENT
DESCRIPTION:6. div. menn avd. 7 (runde 20)\n\nFolldal Menn 1 - Tylldal Men
 n\nFolldal stadion lørdag 29.08.26 14:00\n\nwww.fotball.no
DTEND;TZID=Europe/Oslo:20260829T154400
DTSTAMP:20260425T221653Z
DTSTART;TZID=Europe/Oslo:20260829T140000
LOCATION:Folldal stadion
SEQUENCE:0
SUMMARY:Folldal Menn 1 - Tylldal Menn
UID:a0b11e1b-1bae-4c16-a410-29d8a86a298c
URL:https://www.fotball.no/fotballdata/kamp/?fiksId=9023090
X-ALT-DESC;FMTTYPE=text/html:\n                    <html><head></head><bod
 y>\n                        <h4><a href="https://www.fotball.no/fotballda
 ta/kamp/?fiksId=9023090">Folldal Menn 1 - Tylldal Menn</a></h4>\n        
                 <p>6. div. menn avd. 7 (runde 20)</p>\n                  
       <p>Spilles på <a href="https://www.fotball.no/fotballdata/anlegg/hj
 em/?fiksId=2134">Folldal stadion</a> lørdag 29.08.26 14:00</p>\n         
                <br/><a href="http://www.fotball.no">fotball.no</a>\n     
                </body></html>
END:VEVENT
BEGIN:VEVENT
DESCRIPTION:6. div. menn avd. 7 (runde 16)\n\nAlvdal Menn 2025 - Tylldal M
 enn\nTronfjell Arena fredag 11.09.26 20:00\n\nwww.fotball.no
DTEND;TZID=Europe/Oslo:20260911T214400
DTSTAMP:20260425T221653Z
DTSTART;TZID=Europe/Oslo:20260911T200000
LOCATION:Tronfjell Arena
SEQUENCE:0
SUMMARY:Alvdal Menn 2025 - Tylldal Menn
UID:9704adcb-ad00-427c-b9b6-92ed2a47e836
URL:https://www.fotball.no/fotballdata/kamp/?fiksId=9023076
X-ALT-DESC;FMTTYPE=text/html:\n                    <html><head></head><bod
 y>\n                        <h4><a href="https://www.fotball.no/fotballda
 ta/kamp/?fiksId=9023076">Alvdal Menn 2025 - Tylldal Menn</a></h4>\n      
                   <p>6. div. menn avd. 7 (runde 16)</p>\n                
         <p>Spilles på <a href="https://www.fotball.no/fotballdata/anlegg/
 hjem/?fiksId=2122">Tronfjell Arena</a> fredag 11.09.26 20:00</p>\n       
                  <br/><a href="http://www.fotball.no">fotball.no</a>\n   
                  </body></html>
END:VEVENT
BEGIN:VEVENT
DESCRIPTION:6. div. menn avd. 7 (runde 17)\n\nTylldal Menn - Os/Nansen  Me
 nn 1\nKloppmyra lørdag 19.09.26 14:00\n\nwww.fotball.no
DTEND;TZID=Europe/Oslo:20260919T154400
DTSTAMP:20260425T221653Z
DTSTART;TZID=Europe/Oslo:20260919T140000
LOCATION:Kloppmyra
SEQUENCE:0
SUMMARY:Tylldal Menn - Os/Nansen  Menn 1
UID:22caadc2-faed-44a3-a701-333a882bf032
URL:https://www.fotball.no/fotballdata/kamp/?fiksId=9023078
X-ALT-DESC;FMTTYPE=text/html:\n                    <html><head></head><bod
 y>\n                        <h4><a href="https://www.fotball.no/fotballda
 ta/kamp/?fiksId=9023078">Tylldal Menn - Os/Nansen  Menn 1</a></h4>\n     
                    <p>6. div. menn avd. 7 (runde 17)</p>\n               
          <p>Spilles på <a href="https://www.fotball.no/fotballdata/anlegg
 /hjem/?fiksId=2054">Kloppmyra</a> lørdag 19.09.26 14:00</p>\n            
             <br/><a href="http://www.fotball.no">fotball.no</a>\n        
             </body></html>
END:VEVENT
BEGIN:VEVENT
DESCRIPTION:6. div. menn avd. 7 (runde 18)\n\nTynset Menn 2 - Tylldal Menn
 \nNytrømoen kunstgras tirsdag 22.09.26 20:00\n\nwww.fotball.no
DTEND;TZID=Europe/Oslo:20260922T214400
DTSTAMP:20260425T221653Z
DTSTART;TZID=Europe/Oslo:20260922T200000
LOCATION:Nytrømoen kunstgras
SEQUENCE:0
SUMMARY:Tynset Menn 2 - Tylldal Menn
UID:71366b6f-e2df-4c87-8389-1312654b5209
URL:https://www.fotball.no/fotballdata/kamp/?fiksId=9023083
X-ALT-DESC;FMTTYPE=text/html:\n                    <html><head></head><bod
 y>\n                        <h4><a href="https://www.fotball.no/fotballda
 ta/kamp/?fiksId=9023083">Tynset Menn 2 - Tylldal Menn</a></h4>\n         
                <p>6. div. menn avd. 7 (runde 18)</p>\n                   
      <p>Spilles på <a href="https://www.fotball.no/fotballdata/anlegg/hje
 m/?fiksId=5149">Nytrømoen kunstgras</a> tirsdag 22.09.26 20:00</p>\n     
                    <br/><a href="http://www.fotball.no">fotball.no</a>\n 
                    </body></html>
END:VEVENT
BEGIN:VEVENT
DESCRIPTION:6. div. menn avd. 7 (runde 21)\n\nBrekken Menn - Tylldal Menn\
 nBrekken Kunstgress mandag 12.10.26 20:00\n\nwww.fotball.no
DTEND;TZID=Europe/Oslo:20261012T214400
DTSTAMP:20260425T221653Z
DTSTART;TZID=Europe/Oslo:20261012T200000
LOCATION:Brekken Kunstgress
SEQUENCE:0
SUMMARY:Brekken Menn - Tylldal Menn
UID:6af8be29-84f0-4f09-98eb-45f21f0965d7
URL:https://www.fotball.no/fotballdata/kamp/?fiksId=9023094
X-ALT-DESC;FMTTYPE=text/html:\n                    <html><head></head><bod
 y>\n                        <h4><a href="https://www.fotball.no/fotballda
 ta/kamp/?fiksId=9023094">Brekken Menn - Tylldal Menn</a></h4>\n          
               <p>6. div. menn avd. 7 (runde 21)</p>\n                    
     <p>Spilles på <a href="https://www.fotball.no/fotballdata/anlegg/hjem
 /?fiksId=1761">Brekken Kunstgress</a> mandag 12.10.26 20:00</p>\n        
                 <br/><a href="http://www.fotball.no">fotball.no</a>\n    
                 </body></html>
END:VEVENT

END:VCALENDAR